BEGIN:VCALENDAR
VERSION:2.0
PRODID:-//Ιερός Ναός Αγ&#039; Παρασκευής - ECPv5.3.1.1//NONSGML v1.0//EN
CALSCALE:GREGORIAN
METHOD:PUBLISH
X-WR-CALNAME:Ιερός Ναός Αγ&#039; Παρασκευής
X-ORIGINAL-URL:https://agiaparaskevinp.gr
X-WR-CALDESC:Ιερός Ναός Αγ&#039; Παρασκευής - Εκδηλώσεις
BEGIN:VTIMEZONE
TZID:Europe/Athens
BEGIN:DAYLIGHT
TZOFFSETFROM:+0200
TZOFFSETTO:+0300
TZNAME:EEST
DTSTART:20200329T010000
END:DAYLIGHT
BEGIN:STANDARD
TZOFFSETFROM:+0300
TZOFFSETTO:+0200
TZNAME:EET
DTSTART:20201025T010000
END:STANDARD
END:VTIMEZONE
BEGIN:VEVENT
DTSTART;TZID=Europe/Athens:20200101T070000
DTEND;TZID=Europe/Athens:20200107T100000
DTSTAMP:20260419T231601
CREATED:20200105T101612Z
LAST-MODIFIED:20200105T101612Z
UID:1821-1577862000-1578391200@agiaparaskevinp.gr
SUMMARY:Πρόγραμμα εορτών Ιανουαρίου 2020
DESCRIPTION:
URL:https://agiaparaskevinp.gr/event/%cf%80%cf%81%cf%8c%ce%b3%cf%81%ce%b1%ce%bc%ce%bc%ce%b1-%ce%b5%ce%bf%cf%81%cf%84%cf%8e%ce%bd-%ce%b9%ce%b1%ce%bd%ce%bf%cf%85%ce%b1%cf%81%ce%af%ce%bf%cf%85-2020/
CATEGORIES:Εορτή
ATTACH;FMTTYPE=image/png:https://agiaparaskevinp.gr/wp-content/uploads/2020/01/programma-eortwn-2020.png
END:VEVENT
END:VCALENDAR