BEGIN:VCALENDAR
VERSION:2.0
PRODID:-//Ιερός Ναός Αγ&#039; Παρασκευής - ECPv5.3.1.1//NONSGML v1.0//EN
CALSCALE:GREGORIAN
METHOD:PUBLISH
X-WR-CALNAME:Ιερός Ναός Αγ&#039; Παρασκευής
X-ORIGINAL-URL:https://agiaparaskevinp.gr
X-WR-CALDESC:Ιερός Ναός Αγ&#039; Παρασκευής - Εκδηλώσεις
BEGIN:VTIMEZONE
TZID:Europe/Athens
BEGIN:DAYLIGHT
TZOFFSETFROM:+0200
TZOFFSETTO:+0300
TZNAME:EEST
DTSTART:20190331T010000
END:DAYLIGHT
BEGIN:STANDARD
TZOFFSETFROM:+0300
TZOFFSETTO:+0200
TZNAME:EET
DTSTART:20191027T010000
END:STANDARD
END:VTIMEZONE
BEGIN:VEVENT
DTSTART;TZID=Europe/Athens:20190624T080000
DTEND;TZID=Europe/Athens:20190629T233000
DTSTAMP:20260419T175448
CREATED:20190205T073718Z
LAST-MODIFIED:20190326T201113Z
UID:1777-1561363200-1561851000@agiaparaskevinp.gr
SUMMARY:Προσκυνηματικό Οδοιπορικό στους Αγίους Τόπους
DESCRIPTION: 
URL:https://agiaparaskevinp.gr/event/%cf%80%cf%81%ce%bf%cf%83%ce%ba%cf%85%ce%bd%ce%b7%ce%bc%ce%b1%cf%84%ce%b9%ce%ba%cf%8c-%ce%bf%ce%b4%ce%bf%ce%b9%cf%80%ce%bf%cf%81%ce%b9%ce%ba%cf%8c-%cf%83%cf%84%ce%bf%cf%85%cf%82-%ce%b1%ce%b3%ce%af/
CATEGORIES:Περιήγηση
ATTACH;FMTTYPE=image/jpeg:https://agiaparaskevinp.gr/wp-content/uploads/2019/02/ΕΚΔΡΟΜΗ-ΑΓΙΟΙ-ΤΟΠΟΙ-2019.jpg
END:VEVENT
END:VCALENDAR