BEGIN:VCALENDAR
VERSION:2.0
PRODID:-//Ιερός Ναός Αγ&#039; Παρασκευής - ECPv5.3.1.1//NONSGML v1.0//EN
CALSCALE:GREGORIAN
METHOD:PUBLISH
X-WR-CALNAME:Ιερός Ναός Αγ&#039; Παρασκευής
X-ORIGINAL-URL:https://agiaparaskevinp.gr
X-WR-CALDESC:Ιερός Ναός Αγ&#039; Παρασκευής - Εκδηλώσεις
BEGIN:VTIMEZONE
TZID:Europe/Athens
BEGIN:DAYLIGHT
TZOFFSETFROM:+0200
TZOFFSETTO:+0300
TZNAME:EEST
DTSTART:20220327T010000
END:DAYLIGHT
BEGIN:STANDARD
TZOFFSETFROM:+0300
TZOFFSETTO:+0200
TZNAME:EET
DTSTART:20221030T010000
END:STANDARD
END:VTIMEZONE
BEGIN:VEVENT
DTSTART;TZID=Europe/Athens:20220701T080000
DTEND;TZID=Europe/Athens:20220731T170000
DTSTAMP:20260420T085121
CREATED:20220715T091351Z
LAST-MODIFIED:20220715T091351Z
UID:1892-1656662400-1659286800@agiaparaskevinp.gr
SUMMARY:ΠΡΟΓΡΑΜΜΑ ΙΟΥΛΙΟΥ
DESCRIPTION:
URL:https://agiaparaskevinp.gr/event/%cf%80%cf%81%ce%bf%ce%b3%cf%81%ce%b1%ce%bc%ce%bc%ce%b1-%ce%b9%ce%bf%cf%85%ce%bb%ce%b9%ce%bf%cf%85/
CATEGORIES:Εορτή
ATTACH;FMTTYPE=image/jpeg:https://agiaparaskevinp.gr/wp-content/uploads/2022/07/Πρόγραμμα-ΙΟΥ-Λ-ΙΟΥ-ναού-page-001-1.jpg
END:VEVENT
END:VCALENDAR