BEGIN:VCALENDAR
VERSION:2.0
PRODID:-//Ιερός Ναός Αγ&#039; Παρασκευής - ECPv5.3.1.1//NONSGML v1.0//EN
CALSCALE:GREGORIAN
METHOD:PUBLISH
X-WR-CALNAME:Ιερός Ναός Αγ&#039; Παρασκευής
X-ORIGINAL-URL:https://agiaparaskevinp.gr
X-WR-CALDESC:Ιερός Ναός Αγ&#039; Παρασκευής - Εκδηλώσεις
BEGIN:VTIMEZONE
TZID:Europe/Athens
BEGIN:DAYLIGHT
TZOFFSETFROM:+0200
TZOFFSETTO:+0300
TZNAME:EEST
DTSTART:20200329T010000
END:DAYLIGHT
BEGIN:STANDARD
TZOFFSETFROM:+0300
TZOFFSETTO:+0200
TZNAME:EET
DTSTART:20201025T010000
END:STANDARD
END:VTIMEZONE
BEGIN:VEVENT
DTSTART;TZID=Europe/Athens:20200710T200000
DTEND;TZID=Europe/Athens:20200711T010000
DTSTAMP:20260420T054709
CREATED:20200704T201942Z
LAST-MODIFIED:20200704T201942Z
UID:1857-1594411200-1594429200@agiaparaskevinp.gr
SUMMARY:ΙΕΡΑ ΑΓΡΥΠΝΙΑ Παρασκευή 10/7/2020
DESCRIPTION:ΜΕ ΤΗΝ ΕΥΚΑΙΡΙΑ ΤΗΣ ΠΡΩΤΗΣ ΕΠΙΣΗΜΗΣ ΕΟΡΤΗΣ \nΑΠΟ ΤΗΣ  ΑΓΙΟΚΑΤΑΤΑΞΕΩΣ  ΤΟΥ ΟΣΙΟΥ ΣΩΦΡΟΝΙΟΥ ΤΟΥ ΕΣΣΕΞ\, \nΘΑ ΤΕΛΕΣΘΕΙ ΣΤΟ ΠΑΡΕΚΚΛΗΣΙΟ ΠΟΥ ΤΙΜΑΤΑΙ ΕΠ’ ΟΝΟΜΑΤΙ ΤΩΝ ΔΥΟ ΜΕΓΑΛΩΝ ΑΓΙΟΡΕΙΤΩΝ ΑΓΙΩΝ \nΚΑΤΩΘΕΝ ΤΟΥ ΙΕΡΟΥ ΜΑΣ ΝΑΟΥ\, ΠΑΝΗΓΥΡΙΚΗ ΑΓΡΥΠΝΙΑ ΚΑΤΑ ΤΟ ΑΓΙΟΡΕΙΤΙΚΟ ΤΥΠΙΚΟ ΜΕ ΟΛΕΣ ΤΙΣ ΠΡΟΒΛΕΠΟΜΕΝΕΣ ΑΚΟΛΟΥΘΙΕΣ. \n\nΩΡΑ ΕΝΑΡΞΕΩΣ 8:00μμ –  ΕΩΣ 1:00πμ \n  \nΣτοιχεία επικοινωνίας: 210 8044011– 6977006553 \nwww.facebook.com/AgiaParaskeviNP
URL:https://agiaparaskevinp.gr/event/%ce%b9%ce%b5%cf%81%ce%b1-%ce%b1%ce%b3%cf%81%cf%85%cf%80%ce%bd%ce%b9%ce%b1-%cf%80%ce%b1%cf%81%ce%b1%cf%83%ce%ba%ce%b5%cf%85%ce%ae-10-7-2020/
LOCATION:Ιερός Ναός Αγίας Παρασκευής Νέας Πεντέλης\, Αγίας Παρασκευής 13\, Νέα Πεντέλη\, Αττική\, 15239\, Ελλάδα
CATEGORIES:Αγρυπνία
ATTACH;FMTTYPE=image/jpeg:https://agiaparaskevinp.gr/wp-content/uploads/2020/07/αγρυπνια.jpg
END:VEVENT
END:VCALENDAR