BEGIN:VCALENDAR
VERSION:2.0
PRODID:-//Ιερός Ναός Αγ&#039; Παρασκευής - ECPv5.3.1.1//NONSGML v1.0//EN
CALSCALE:GREGORIAN
METHOD:PUBLISH
X-WR-CALNAME:Ιερός Ναός Αγ&#039; Παρασκευής
X-ORIGINAL-URL:https://agiaparaskevinp.gr
X-WR-CALDESC:Ιερός Ναός Αγ&#039; Παρασκευής - Εκδηλώσεις
BEGIN:VTIMEZONE
TZID:Europe/Athens
BEGIN:DAYLIGHT
TZOFFSETFROM:+0200
TZOFFSETTO:+0300
TZNAME:EEST
DTSTART:20220327T010000
END:DAYLIGHT
BEGIN:STANDARD
TZOFFSETFROM:+0300
TZOFFSETTO:+0200
TZNAME:EET
DTSTART:20221030T010000
END:STANDARD
END:VTIMEZONE
BEGIN:VEVENT
DTSTART;TZID=Europe/Athens:20220718T080000
DTEND;TZID=Europe/Athens:20220719T170000
DTSTAMP:20260420T101325
CREATED:20220719T103338Z
LAST-MODIFIED:20220719T105344Z
UID:1896-1658131200-1658250000@agiaparaskevinp.gr
SUMMARY:ΕΟΡΤH Αγίου Σεραφείμ του Σαρώφ
DESCRIPTION:
URL:https://agiaparaskevinp.gr/event/%ce%b5%ce%bf%cf%81%cf%84h-%ce%b1%ce%b3%ce%af%ce%bf%cf%85-%cf%83%ce%b5%cf%81%ce%b1%cf%86%ce%b5%ce%af%ce%bc-%cf%84%ce%bf%cf%85-%cf%83%ce%b1%cf%81%cf%8e%cf%86/
CATEGORIES:Εορτή
ATTACH;FMTTYPE=image/jpeg:https://agiaparaskevinp.gr/wp-content/uploads/2022/07/2022-_-AFISA-19-Ιουλίου-Αγιος-ΣΕΡΑΦΕΙΜ-page-001.jpg
END:VEVENT
END:VCALENDAR