BEGIN:VCALENDAR
VERSION:2.0
PRODID:-//Ιερός Ναός Αγ&#039; Παρασκευής - ECPv5.3.1.1//NONSGML v1.0//EN
CALSCALE:GREGORIAN
METHOD:PUBLISH
X-WR-CALNAME:Ιερός Ναός Αγ&#039; Παρασκευής
X-ORIGINAL-URL:https://agiaparaskevinp.gr
X-WR-CALDESC:Ιερός Ναός Αγ&#039; Παρασκευής - Εκδηλώσεις
BEGIN:VTIMEZONE
TZID:Europe/Athens
BEGIN:DAYLIGHT
TZOFFSETFROM:+0200
TZOFFSETTO:+0300
TZNAME:EEST
DTSTART:20210328T010000
END:DAYLIGHT
BEGIN:STANDARD
TZOFFSETFROM:+0300
TZOFFSETTO:+0200
TZNAME:EET
DTSTART:20211031T010000
END:STANDARD
END:VTIMEZONE
BEGIN:VEVENT
DTSTART;TZID=Europe/Athens:20210529T190000
DTEND;TZID=Europe/Athens:20210530T210000
DTSTAMP:20260420T070817
CREATED:20210523T083727Z
LAST-MODIFIED:20210523T083727Z
UID:1875-1622314800-1622408400@agiaparaskevinp.gr
SUMMARY:ΕΘΝΙΚΗ ΠΑΛΙΓΓΕΝΕΣΙΑ: ΕΠΙΤΕΥΓΜΑΤΑ ΚΑΙ ΔΙΔΑΓΜΑΤΑ
DESCRIPTION:568 χρόνια από την Άλωση της Πόλης – 200 χρόνια από την αρχή της επανάστασης \n\nΠαρακολουθήστε το διαδικτυακό συμπόσιο που διοργανώνει ο Ιερός Ναός Αγίας Παρασκευής Νέας Πεντέλης 29-30 Μαΐου\, 19:00-21:00\n\nΠρόγραμμα συνεδρίου: \n\nΣΑΒΒΑΤΟ\, 29 ΜΑΪΟΥ 2021\n19:00 – 21:00 \n\n1) 29 ΜΑΪΟΥ 1453 – Τέλος του Βυζαντινού και απαρχή του νέου Ελληνισμού \nΔημήτρης Μόσχος\nΑν. Καθηγητής Τμήματος Θεολογίας ΕΚΠΑ \n2) Η Μεγάλη Ιδέα ως αφετηρία του αγώνα και τα ιδεολογικά κίνητρα της Ελληνικής Επανάστασης \nΜιχάλης Ρέττος\nΦιλόλογος\, Ιστορικός Ερευνητής \n3) Η θεμελίωση του ελληνικού κράτους: από τον Καποδίστρια στον Όθωνα \nΑντώνης Κλάψης\nΕπ. Καθηγητής\, Τμήμα Πολιτικής Επιστήμης & Διεθνών\nΣχέσεων\, Πανεπιστήμιο Πελοποννήσου \n4) Το Αυτοκέφαλο της Ελλαδικής Εκκλησίας – Μία Ιστορική Αποτίμηση\nΓεώργιος Ιατρού Διδάκτωρ Ἑκκλησιαστικού Δικαίου – Δικηγόρος \n\nΚΥΡΙΑΚΗ\, 30 ΜΑΪΟΥ 2021\n19:00 – 21:00 \n\n1) Εμφύλιες Διαμάχες και οι συνέπειές τους \nΚώστας Μ. Σταματόπουλος\nΙστορικός\, Διδάκτωρ Βυζαντινής Ιστορίας. \n2) Εκκλησία και Έθνος: Συμπόρευση και Προβληματισμοί \nΔρ. Σωτήρης Μητραλέξης\nΕπισκέπτης Ερευνητής\, Ινστιτούτο Ορθοδόξων Χριστιανικών Σπουδών\, Cambridge & Ερευνητικός Εταίρος\nΠανεπιστήμιο του Winchester \n3) Η Παρουσία της Ελλάδας στην Ευρώπη Σήμερα \nΓιώργος Πρεβελάκης\nΟμ. Καθηγητής Γεωπολιτικής – Σορβόννη\, Συγγραφέας\,\nΑντιπρόσωπος της Ελλάδας στον ΟΟΣΑ \n4) Κλείσιμο Συμποσίου \n\nΣυντονιστής: Παναγιώτης Νικολόπουλος π. Καθηγητής Νομικής\, ΕΚΠΑ \n\nΤο συνέδριο θα μεταδοθεί ζωντανά από το Youtube και στη σελίδα του Ναού στο Facebook \n\nΣύνδεσμος παρακολούθησης στο Youtube: \nΣάββατο\nhttps://youtu.be/clfzlO3I1Fg \nΚυριακή\nhttps://youtu.be/YQKwcpOQqhY
URL:https://agiaparaskevinp.gr/event/%ce%b5%ce%b8%ce%bd%ce%b9%ce%ba%ce%b7-%cf%80%ce%b1%ce%bb%ce%b9%ce%b3%ce%b3%ce%b5%ce%bd%ce%b5%cf%83%ce%b9%ce%b1-%ce%b5%cf%80%ce%b9%cf%84%ce%b5%cf%85%ce%b3%ce%bc%ce%b1%cf%84%ce%b1-%ce%ba%ce%b1%ce%b9/
LOCATION:Ιερός Ναός Αγίας Παρασκευής Νέας Πεντέλης\, Αγίας Παρασκευής 13\, Νέα Πεντέλη\, Αττική\, 15239\, Ελλάδα
CATEGORIES:Εκδήλωση
ATTACH;FMTTYPE=image/jpeg:https://agiaparaskevinp.gr/wp-content/uploads/2021/05/ethniki-paligenesia-white-scaled.jpg
END:VEVENT
END:VCALENDAR