BEGIN:VCALENDAR
VERSION:2.0
PRODID:-//Ιερός Ναός Αγ&#039; Παρασκευής - ECPv5.3.1.1//NONSGML v1.0//EN
CALSCALE:GREGORIAN
METHOD:PUBLISH
X-WR-CALNAME:Ιερός Ναός Αγ&#039; Παρασκευής
X-ORIGINAL-URL:https://agiaparaskevinp.gr
X-WR-CALDESC:Ιερός Ναός Αγ&#039; Παρασκευής - Εκδηλώσεις
BEGIN:VTIMEZONE
TZID:Europe/Athens
BEGIN:DAYLIGHT
TZOFFSETFROM:+0200
TZOFFSETTO:+0300
TZNAME:EEST
DTSTART:20190331T010000
END:DAYLIGHT
BEGIN:STANDARD
TZOFFSETFROM:+0300
TZOFFSETTO:+0200
TZNAME:EET
DTSTART:20191027T010000
END:STANDARD
END:VTIMEZONE
BEGIN:VEVENT
DTSTART;VALUE=DATE:20191013
DTEND;VALUE=DATE:20191021
DTSTAMP:20260419T225456
CREATED:20191007T070423Z
LAST-MODIFIED:20191010T133747Z
UID:1804-1570924800-1571615999@agiaparaskevinp.gr
SUMMARY:Αγιολογικό Συνέδριο με θέμα "Ανατολική Θράκη - Τόπος Αγίων"
DESCRIPTION:Αναλυτικό πρόγραμμα:\n  \nΣΑΒΒΑΤΟ 12-10-2019 \n  \n17:00 Υποδοχή Ιεράς Εικόνος Παναγίας της Σηλυβριανής \n18:00  Μέγας Εσπερινός \n21:00 Απόδειπνο – Χαιρετισμοί της Παναγίας \n  \n  \nΚΥΡΙΑΚΗ 13-10-2019 \n  \n07:00  Όρθρος & Θεία Λειτουργία \n13:00  Ιερά Παράκλησις της Παναγίας \n18:00  Μέγας Αρχιερατικός Εσπερινός \n  \n  \nΕΝΑΡΞΗ Β’ ΑΓΙΟΛΟΓΙΚΟΥ ΣΥΝΕΔΡΙΟΥ \n  \nΑΝΑΤΟΛΙΚΗ ΘΡΑΚΗ – ΤΟΠΟΣ ΑΓΙΩΝ \nΟσία Παρασκευή η Επιβατηνή \nΆγιος Νεκτάριος – 100 χρόνια από την κοίμησή του (1920-2020) \n  \nΥΠΟ ΤΗΝ ΑΙΓΙΔΑ ΤΟΥ ΙΔΡΥΜΑΤΟΣ ΠΟΙΜΑΝΤΙΚΗΣ ΕΠΙΜΟΡΦΩΣΕΩΣ ΙΕΡΑΣ ΑΡΧΙΕΠΙΣΚΟΠΗΣ ΑΘΗΝΩΝ \n  \n  \nΑΠΟΓΕΥΜΑΤΙΝΗ ΣΥΝΕΔΡΙΑΣΗ \n19:00 « Η Θράκη διαχρονικά – Η Εκκλησιαστική της Πορεία» \n  \nΣεβ. Μητροπολίτης Αλεξανδρουπόλεως κ. Άνθιμος  \n  \nΣεβ. Μητροπολίτης Μαρωνείας και Κομοτηνής κ. Παντελεήμων \n«Λατρευτική παρουσία και τιμή των Αγίων της Ανατολικής Θράκης στην Ιερά Μητρόπολη Μαρωνείας και Κομοτηνής» \n   \nΔημήτρης Γόνης\,  Ομότιμος Καθηγητής ΕΚΠΑ \n «Η Οσία Παρασκευή η Επιβατηνή\, μία παν-βαλκάνια Αγία» \n  \n21:00  Απόδειπνο – Χαιρετισμοί της Παναγίας \n  \nΔΕΥΤΕΡΑ  14-10-2019 \n  \n07:00  Όρθρος & Αρχιερατική Θεία Λειτουργία \n13:00  Ιερά Παράκλησις Οσίας Παρασκευής της Επιβατηνής \n18:00  Εσπερινός \n  \nΑΠΟΓΕΥΜΑΤΙΝΗ ΣΥΝΕΔΡΙΑΣΗ \n  \n19:00 « Αγία Παρασκευή Επιβατηνή – Σύγχρονες Πνευματικές Μορφές στη Ρουμανία» \n  \nΣουλτάνα Λάμπρου\,  Αν. Καθηγήτρια Θεολογικής Σχολής ΑΠΘ \n«H Οσία Παρασκευή η Επιβατηνή. Ιστορία και Γραμματεία» \n  \nπ. Ηλίας Φρατσέα\, Δρ. Θεολογίας\, εφημέριος Ι. Ν. Αγίου Νικολάου Πευκακίων \n«Άγιος Παϊσιος Βελιτσικόβσκυ και Ρουμανικός Ησυχασμός» \n  \nπ. Πέτρος Μινώπετρος\, Σκηνοθέτης \n«Η πνευματικότητα και το μαρτύριο του π. Νικολάι Στάινχαρτ» \n  \n21:00  Απόδειπνο – Χαιρετισμοί της Παναγίας \n  \n  \nΤΡΙΤΗ  15-10-2019 \n  \n07:00  Όρθρος & Θεία Λειτουργία \n13:00  Ιερά Παράκλησις Οσίας Παρασκευής της Επιβατηνής \n18:00  Εσπερινός \n  \nΑΠΟΓΕΥΜΑΤΙΝΗ ΣΥΝΕΔΡΙΑΣΗ \n  \n19:00  «Η Λειτουργική Τιμή των Αγίων» \n  \nΚων/νος Κορναράκης\,  Αν. Καθηγητής Θεολογικής Σχολής ΕΚΠΑ \n« “Καθαρότητα καρδίας”: Νύξεις αυτοσυνειδησίας για τον σύγχρονο άνθρωπο στον βίο της Οσίας Παρασκευής της Νέας και η θεραπευτική αξία των βίων των αγίων για τα πνευματικά νοσήματα του ανθρώπου » \n  \nΓεώργιος Τσιγάρας\, Αν. Καθηγητής Τμήματος Ιστορίας και Εθνολογίας Δημοκριτείου  Πανεπιστημίου Θράκης \n«Η Εικόνα της Παναγίας της Σηλυβριανής και τα κειμήλια των Εκκλησιών της Ανατολικής Θράκης» \n  \nΑρχιμ. π. Φιλούμενος Ρούμπης\, Φιλόλογος-MSc Θεολογίας\, Γεν. Γραμματέας της Ιεράς Αρχιεπισκοπής Αθηνών\, Εφημέριος Ι.Ν. Αγ. Δημητρίου Όπλων\n \n«Η τιμή των ιερών λειψάνων στην υμνολογία» \n  \n21:00  Απόδειπνο- Χαιρετισμοί της Παναγίας \n  \nΤΕΤΑΡΤΗ 16-10-2019 \n  \n07:00  Όρθρος & Θεία Λειτουργία \n13:00  Ιερά Παράκλησις Οσίας Παρασκευής της Επιβατηνής \n18:00  Εσπερινός \n  \nΑΠΟΓΕΥΜΑΤΙΝΗ ΣΥΝΕΔΡΙΑΣΗ \n  \n19:00 «Η εικόνα στην Ορθόδοξη Παράδοση» \n  \nΔημήτρης Μαυρόπουλος\, Θεολόγος \, Συγγραφέας  \n«Εικόνα και εικονισμός στη θεολογία της Εκκλησίας» \n  \nΓλυκερία Χατζούλη\, Αν. Καθηγήτρια ΑΠΘ \n«Προσέγγιση στην εικονογραφία της Κεφαλοφόρου Οσιομάρτυρος Παρασκευής της Ρωμαίας και της Οσίας Παρασκευής της Επιβατηνής στον Ελλαδικό χώρο (15ος-20ος αιώνας)» \n  \nΆννα Καραμανίδου\,  Αν. Καθηγήτρια Θεολογικής Σχολής ΑΠΘ \n«Ο Άγιος Νεκτάριος περί των ιερών εικόνων» \n  \n21:00  Απόδειπνο – Χαιρετισμοί της Παναγίας \n  \n  \nΠΕΜΠΤΗ 17-10-2019 \n  \n07:00  Όρθρος & Θεία Λειτουργία \n13:00  Ιερά Παράκλησις Οσίας Παρασκευής της Επιβατηνής \n18:00  Εσπερινός \n  \nΟΜΙΛΙΑ \n  \n19:00  π. Χαράλαμπος (Λίβυος) Παπαδόπουλος\, Θεολόγος\, Συγγραφέας \n«Είναι η Αγιότητα αναμαρτησία;» \n  \n21:00 Απόδειπνο – Χαιρετισμοί της Παναγίας \n  \nΠΑΡΑΣΚΕΥΗ 18-10-2019 \n  \n07:00  Όρθρος & Θεία Λειτουργία \n13:00  Ιερά Παράκλησις Αγίου Νεκταρίου \n18:00  Εσπερινός \n  \nΑΠΟΓΕΥΜΑΤΙΝΗ ΣΥΝΕΔΡΙΑΣΗ \n  \n  \n19:00  π. Βαρνάβας Λαμπρόπουλος\, Θεολόγος – Φιλόλογος \nΣυντάκτης Φωνής Κυρίου για τα έτη 2018 -2019 \nΙερά Μονή Προφήτου Ηλιού Πρεβέζης \n«Ο Άγιος Νεκτάριος ως Πατήρ και Διδάσκαλος της Εκκλησίας» \n  \nΧαράλαμπος Μπούσιας\, Υμνογράφος της των Αλεξανδρέων Εκκλησίας \n«Άγιος Ευθύμιος – αδελφός της Αγίας Παρασκευής της Επιβατηνής» \n  \n21:00  Απόδειπνο – Χαιρετισμοί της Παναγίας \nΣΑΒΒΑΤΟ 19-10-2019 \nΠΡΩΙΝΗ ΣΥΝΕΔΡΙΑΣΗ \n  \n10:00  «Η Ρωμιοσύνη στη Θράκη και στα Βαλκάνια. Από την εποχή της Αγίας Παρασκευής της Επιβατηνής μέχρι σήμερα» \n  \nΑρχιμ. π. Μιχαήλ Σταθάκης\, Αρχαιολόγος – Θεολόγος\, Εφημέριος Ι.Ν. Αγ. Γεωργίου Ν. Ψυχικού  \n«Έλληνες ηγεμόνες της Μολδοβλαχίας» \n  \nΔημήτρης Τσιανικλίδης\, Δρ. Θεολογίας\, Νομικός \n«Η Ιερά Μητρόπολις Σηλυβρίας δια μέσου των αιώνων. Αναφορά στα εκκλησιαστικά\, εκπαιδευτικά και πολιτιστικά δρώμενα αυτής» \n  \n Ντράγκιτσα Τάντιτς-Παπανικολάου\, Υπ. Διδάκτωρ της Θεολογικής Σχολής του ΕΚΠΑ \n«Η τιμή της Αγίας Παρασκευής στη Σερβία. Ιστορικο-εθνολογική παρουσίαση» \n  \n12:00  Λήξη \n13:00  Ιερά Παράκλησις Οσίας Παρασκευής της Επιβατηνής \n18:00  Εσπερινός \n19:00 \nΣυναυλία παραδοσιακής μουσικής\, με τραγούδια Προποντίδος και Ανατολικής Θράκης\, με τους Χρήστο Τσιαμούλη\, Κατερίνα Παπαδοπούλου και Σωκράτη Σινόπουλο  \n  \nΚΥΡΙΑΚΗ 20-10-2019 \n  \n07:00  Όρθρος & Θεία Λειτουργία \n13:00  Ιερά Παράκλησις της Παναγίας \n18:00  Εσπερινός \n  \n  \nΑΠΟΓΕΥΜΑΤΙΝΗ ΣΥΝΕΔΡΙΑΣΗ \nΑφιερωμένη στον Μακαριώτατο Αρχιεπίσκοπο Αθηνών και Πάσης Ελλάδος κ.κ. Ιερώνυμο για το επιστημονικό του έργο στην Αρχαιολογία. \n  \n19:00   « Έκφραση Ι. Ν. Αγίας Παρασκευής Νέας Πεντέλης» \n  \nΣταύρος Μαμαλούκος\, Αν. Καθηγητής Τμήματος Αρχιτεκτόνων Πανεπιστημίου Πατρών \n«Η αρχιτεκτονική του Ι. Ν. Αγίας Παρασκευής Νέας Πεντέλης και μερικές σκέψεις για τη σύγχρονη ορθόδοξη ναοδομία»  \n  \nΝικόλαος Μαρκοζάνης\, Συντηρητής Αρχαιοτήτων & Έργων Τέχνης\, Θεολόγος\, Υπ. Διδάκτωρ ΕΚΠΑ \n«Το εικονογραφικό πρόγραμμα του Ι. Ν. Αγίας Παρασκευής Νέας Πεντέλης» \n  \nΞανθίππη Μαγγίνα\,  Φιλόλογoς \n«Φιλολογικές Παρατηρήσεις σε μια ανέκδοτη ασματική ακολουθία» \n  \nΣυναυλία \nΟ Γυναικείος Βυζαντινός Χορός  \nΥπό τη διεύθυνση της κυρίας Μύριαμ Μαρίνου \n21:00  Απόδειπνο – Χαιρετισμοί της Παναγίας \nΓια περισσότερες πληροφορίες\, μπορείτε να επικοινωνήσετε με τον π. Ιωάννη Σαββάκη στο 697 7006553 ή να επισκεφτείτε την σελίδα του Ναού www.facebook.com/AgiaParaskeviNP/ \n 
URL:https://agiaparaskevinp.gr/event/%ce%b1%ce%b3%ce%b9%ce%bf%ce%bb%ce%bf%ce%b3%ce%b9%ce%ba%cf%8c-%cf%83%cf%85%ce%bd%ce%ad%ce%b4%cf%81%ce%b9%ce%bf-%ce%bc%ce%b5-%ce%b8%ce%ad%ce%bc%ce%b1-%ce%b1%ce%bd%ce%b1%cf%84%ce%bf%ce%bb%ce%b9%ce%ba/
ATTACH;FMTTYPE=image/jpeg:https://agiaparaskevinp.gr/wp-content/uploads/2019/10/programma2019low-page-001.jpg
END:VEVENT
END:VCALENDAR